BEGIN:VCALENDAR
VERSION:2.0
PRODID:-//Umenie byť ženou - ECPv5.14.1//NONSGML v1.0//EN
CALSCALE:GREGORIAN
METHOD:PUBLISH
X-WR-CALNAME:Umenie byť ženou
X-ORIGINAL-URL:https://umeniebytzenou.sk
X-WR-CALDESC:Udalosti pre Umenie byť ženou
REFRESH-INTERVAL;VALUE=DURATION:PT1H
X-Robots-Tag:noindex
X-PUBLISHED-TTL:PT1H
BEGIN:VTIMEZONE
TZID:Europe/Bratislava
BEGIN:DAYLIGHT
TZOFFSETFROM:+0100
TZOFFSETTO:+0200
TZNAME:CEST
DTSTART:20260329T010000
END:DAYLIGHT
BEGIN:STANDARD
TZOFFSETFROM:+0200
TZOFFSETTO:+0100
TZNAME:CET
DTSTART:20261025T010000
END:STANDARD
END:VTIMEZONE
BEGIN:VEVENT
DTSTART;TZID=Europe/Bratislava:20260425T080000
DTEND;TZID=Europe/Bratislava:20260425T210000
DTSTAMP:20260425T142429
CREATED:20250422T205354Z
LAST-MODIFIED:20260424T220241Z
UID:19036-1777104000-1777150800@umeniebytzenou.sk
SUMMARY:Konferencia Umenie byť ženou 2026
DESCRIPTION:Konferencia\n			\n				\n				\n				Umenie byť ženou 2026\n			\n				\n				\n				• Sobota 25. 4. 2026\n			\n				\n				\n				Venuj si deň len pre teba! \nKonferencia Umenie byť ženou je určená pre všetky ženy – bez ohľadu na vek\, profesiu či životnú etapu. Počas jedného dňa zažiješ inšpiratívne prednášky\, získaš praktické rady do života\, oddýchneš si v relax zóne\, objavíš zaujímavé značky v predajných stánkoch a večer sa zabavíš pri talkshow s Adelou Vinczeovou a jej hosťami. \nČaká ťa podpora\, pochopenie a motivácia v témach kariéry\, materstva\, zdravia a sebalásky – v bezpečnom a príjemnom priestore medzi ženami\, ktoré riešia podobné výzvy ako ty.Dopraj si deň\, ktorý ti dodá energiu\, odvahu a nový pohľad na seba samu. \n			\n				\n				\n				vstupné \n89 €\n\n			\n				Kúpiť lístky\n			\n			\n				\n				\n			\n				\n				\n			\n				\n				\n				\n				\n					\n				\n				\n				\n				\n				\n				\n				\n					\n					\n						\n						Konferencia ako ideálny darček pre ženy všetkých vekových kategórií. Kúpte si vstupenky umenie byť ženou. \n					\n				\n			\n				\n				\n				\n					\n					\n						\n						Máte možnosť zažiť kvalitných domácich a zahraničných prednášajúcich v jeden deň na jednom mieste \n					\n				\n			\n				\n				\n				\n					\n					\n						\n						Na konferencii nájdete rôzne zaujímavé prednášky prebiehajúce súčasne v 3 sálach \n					\n				\n			\n			\n				\n				\n				\n				\n				\n				\n					\n					\n						\n						Súčasťou je poradenská zóna kde na vás čakajú odborníci z rôznych odvetví \n					\n				\n			\n				\n				\n				\n					\n					\n						\n						V nákupnej zóne si môžete urobiť radosť a dopriať si niečo pre seba \n					\n				\n			\n				\n				\n				\n					\n					\n						\n						Večer zažijete jedinečnú talkshow Adely Vinczeovej s jej hosťami. \n					\n				\n			\n			\n				\n				\n			\n				\n				\n			\n				\n				\n				\n				\n					\n				\n				\n				\n				\n				\n				\n				Ambasádorkou konferencieje Adela Vinczeová.\nPočas podujatia budete mať možnosť stretnúť sa s ňou osobne a zažiť jej bezprostrednosť aj energiu. Večer vystúpi na pódiu so svojou talkshow\, v ktorej privíta zaujímavých hostí. Spoločne vytvoríme tvorivú\, príjemnú a uvoľnenú atmosféru\, vďaka ktorej si odnesiete jedinečný a nezabudnuteľný zážitok.\n			\n				Kúpiť lístky\n			\n			\n				\n				\n				\n				\n				\n				\n			\n			\n				\n				\n			\n				\n				\n			\n				\n				\n				\n				\n					\n				\n				\n				\n				\n				\n				\n				Hostia konferencie\n			\n				\n					\n					\n					\n										\n\n										\n													\n																							\n											\n					\n					Zuzana Vačková: Plusy starnutia\, vnútorná sloboda a hodnota mladosti.\n				\n								\n\n										\n													\n																							\n											\n					\n					Adela Vinczeová: Večerná talkshow s Adelou a jej hosťami\n				\n								\n\n										\n													\n																							\n											\n					\n					Lipa Coaching: Odomkni svoj skrytý potenciál a objav svoje talenty!\n				\n								\n\n										\n													\n																							\n											\n					\n					Eva Štefanková: Ženská odolnosť bez sebaobetovania\n				\n								\n\n										\n													\n																							\n											\n					\n					MUDr. Martin Petrenko\, CSc. MBA: Plodnosť bez tajomstiev: Čo by mala vedieť každá žena.\n				\n								\n\n										\n													\n																							\n											\n					\n					Lívia Danningerová: Praktický mini vhľad do vášho potenciálu\, výziev\, partnerských vzťahov a vzťahu k deťom\n				\n								\n\n										\n													\n																							\n											\n					\n					Andrea Mikolášiková: Od spolužitia k blízkosti cesta k hlbokému manželskému prepojeniu\n				\n								\n\n										\n													\n																							\n											\n					\n					Miroslava Cehelská: Prečo na chudnutie nepotrebujete pevnú vôľu alebo viac disciplíny\n				\n								\n\n										\n													\n																							\n											\n					\n					Katarína Havlíková: Moment\, z ktorého všetko vzniká\n				\n								\n\n										\n													\n																							\n											\n					\n					Radoslava Horváthová: Nálepky a hodnotenia a ich vplyv na osobnosť dieťaťa\n				\n								\n\n										\n													\n																							\n											\n					\n					Patrícia Hirschnerová: Work-life integration\n				\n								\n\n										\n													\n																							\n											\n					\n					Martina Matrtajová: Asertivita ako cesta k zdravým hraniciam\n				\n								\n\n										\n													\n																							\n											\n					\n					Martin Luterán: Ako formovať kritické myslenie?\n				\n								\n\n										\n													\n																							\n											\n					\n					Bianka Urbanovská: Sebaobrana ako každodenná zručnosť\n				\n								\n\n										\n													\n																							\n											\n					\n					Alexandra Hutarová: Dych ako most medzi telom\, nervovým systémom a ženskou energiou\n				\n								\n\n										\n													\n																							\n											\n					\n					Natália Palugová: Prejedzte sa do pohody mikrobióm\, stres a ženské zdravie\n				\n								\n\n										\n													\n																							\n											\n					\n					Lívia Pastoreková: Objav svoje talenty. Objav svoje WHY\n				\n								\n\n										\n													\n																							\n											\n					\n					Terézia Sinčáková: Dve podoby mužskej sily\, ktoré formujú náš svet?\n				\n								\n\n										\n													\n																							\n											\n					\n					Iveta Maličká: Ako skutočné naslúchanie mení vzťahy\n				\n								\n\n										\n													\n																							\n											\n					\n					Henrieta Hudecová: Čo počuješ\, keď nikto nič nehovorí?\n				\n				\n					\n					\n				\n			\n			\n				\n				\n			\n				\n				\n			\n				\n				\n				\n				\n					\n				\n				\n				\n				\n				Program konferencie\n			\n				\n				\n				\n					Sála 1: LadivalSála 2: BiopronSála 3: Beliema\n				\n				\n					\n				\n				\n				\n\n\n9:00 – 9:30\nOtvorenie konferencie\n\n\n9:30 – 10:30\nMartin Luterán – Ako formovať kritické myslenie?\n\n\n10:30 – 10:50\nPRESTÁVKA\n\n\n10:50 – 11:50\nEva Štefanková – Regeneratívny leadership. Ženská odolnosť bez sebaobetovania.\n\n\n11:50 – 13:20\nobed\n\n\n13:30 – 14:30\nZuzana Vačková – Plusy starnutia\, vnútorná sloboda a hodnota mladosti.\n\n\n14:30 – 14:45\nPRESTÁVKA\n\n\n14:45 – 15:45\nKatarína Havlíková – Moment\, z ktorého všetko vzniká…\n\n\n15:45 – 16:00\nPRESTÁVKA\n\n\n16:00 – 17:00\nLivia Pastoreková – Objav svoje talenty. Objav svoje WHY.\n\n\n17:00 – 17:15\nPRESTÁVKA\n\n\n17:15 – 18:15\nMartina Matrtajová – Asertivita ako cesta k zdravým hraniciam.\n\n\n18:15 – 19:30\nPRESTÁVKA\n\n\n19:30 – 21:00\nAdela Viczeová – Talkshow s Adelou Viczeovou. Hostia: Vera Wisterová a Marcel Forgáč.\n\n\n\n			\n				\n				\n				\n\n\n8:00 – 8:45\nranná jóga\n\n\n9:30 – 10:30\nAndrea Mikolášiková – Od spolužitia k blízkosti cesta k hlbokému manželskému prepojeniu.\n\n\n10:30 – 10:50\nPRESTÁVKA\n\n\n10:50 – 11:50\nHenrieta Hudecová – Čo počuješ\, keď nikto nehovorí?\n\n\n11:50 – 13:20\nobed\n\n\n13:30 – 14:30\nTereza Sinčáková – Dve podoby mužskej sily\, ktoré formujú náš svet?\n\n\n14:30 – 14:45\nPRESTÁVKA\n\n\n14:45 – 15:45\nNatália Palugová – Prejedzte sa do pohody: mikrobióm\, stres a ženské zdravie.\n\n\n15:45 – 16:00\nPRESTÁVKA\n\n\n16:00 – 17:00\nBianka Urbanovská – Sebaobrana ako každodenná zručnosť.\n\n\n17:00 – 17:15\nPRESTÁVKA\n\n\n17:15 – 18:15\nKristína Zemcikova – Soundhealing.\n\n\n18:15 – 19:30\nPRESTÁVKA\n\n\n\n			\n				\n				\n				\n\n\n9:30 – 10:30\nMiroslava Cehelská – Prečo na chudnutie nepotrebujete pevnú vôľu alebo viac disciplíny.\n\n\n10:30 – 10:50\nPRESTÁVKA\n\n\n10:50 – 11:50\nMUDr. Martin Petrenko – Plodnosť bez tajomstiev: Čo by mala vedieť každá žena.\n\n\n11:50 – 13:20\nobed\n\n\n13:30 – 14:30\nRadoslava Horváthová – O hraniciach\, trestoch a dôsledkoch.\n\n\n14:30 – 14:45\nPRESTÁVKA\n\n\n14:45 – 15:45\nAlexandra Hutarová – Dych ako most medzi telom\, nervovým systémom a ženskou energiou.\n\n\n15:45 – 16:00\nPRESTÁVKA\n\n\n16:00 – 17:00\nPatrícia Hirschnerová – Work-life integration\n\n\n17:00 – 17:15\nPRESTÁVKA\n\n\n17:15 – 18:15\nIveta Maličká – Ako skutočné naslúchanie mení vzťahy.\n\n\n\n			\n				\n			\n			\n				\n				\n			\n				\n				\n			\n				\n				\n				\n				\n					\n				\n				\n				\n				\n				\n				\n				Vstupenky:\n			\n				\n				\n				\n					\n				\n				\n				\n					Aktuálna cena vstupenky\n					\n				\n				\n					89 Eur\n				\n				\n					Cena za vstup: 89 € (Umenie byť ženou 2026)vstup do všetkých sál na prednášky a workshopynákupná zónadarčeky od našich partnerovvideo záznam konferencie\n				\n				Lístky\n			\n				\n			\n			\n				\n				\n			\n				\n				\n			\n				\n				\n				\n				\n					\n				\n				\n				\n				\n				\n				\n				\n	\n\n		\n		\n		\n\n		\n\n\n		\n\n\n\n	Vstupenky\n\n		\n	\n	\n		The numbers below include tickets for this event already in your cart. Clicking "Get Tickets" will allow you to edit any existing attendee information as well as change ticket quantities.	\n\n\n		\n		\n		\n	\n		Vstupenky už nie sú k dispozícii	\n\n\n		\n	\n	\n	\n\n\n	\n\n	\n\n\n\n			\n			\n				\n				\n			\n				\n				\n			\n				\n				\n				\n				\n					\n				\n				\n				\n				\n				\n				\n				Časté otázky\n			\n				\n				\n				\n				\n				\n				Vstupenky\n				Vstupenka vám prišla do emailu\, hneď po zrealizovaní vašej platby. Pozrite sa prosím aj do spamu.\nTešíme sa na vás!\n			\n				\n				\n				Organizačné pokyny\n				Už túto sobotu sa vidíme na konferencii Umenie byť ženou! Ďakujeme\, že si sa rozhodla byť jeho súčasťou.💛 \nČi už prídeš pre inšpiráciu\, odpovede\, nové stretnutia alebo len pre ten pocit byť medzi ženami\, ktoré to majú podobne\, prajeme ti\, aby si tento deň užila presne tak\, ako práve potrebuješ. \nPredtým než prídeš\, by sme ťa chceli poprosiť o prečítanie organizačných pokynov\, aby sme zabezpečili plynulú chod organizácie konferencie. \n📍 Kedy a kde?\n🗓 Dátum: Sobota 25.4.2026 📍 Miesto: Hotel DoubleTree by Hilton\, Bratislava \n✅ Registrácia\n🕗 Registrácia: Otvorená od 8:00 h. Prísť môžeš kedykoľvek podľa svojich preferencií. 🎟 Vstupenka: Prišla ti e-mailom – nemusíš ju tlačiť\, stačí ju ukázať v mobile pri registrácii. \nPri registrácií dostaneš vstupný balíček\, ktorý obsahuje: 📖 Brožúru s programom a informáciami o prednášajúcich + priestor na poznámky 🎁 Darčeky od našich partnerov! \n🌿 Špeciálny program\n🧘‍♀️ Ráno v sále Beliema začneme jemným prebudením tela a prejasnením mysle pod vedením Petra Bernáta 📍 Sála Beliema | ⏰ 8:00 – 8:45 h ✨ Priniesť si môžeš podložku alebo uterák\, ak nechceš cvičiť na koberci. \n🎤 Oficiálne otvorenie konferencie 📍 Hlavná sála Ladival | ⏰ 9:00 h – začíname presne! \n🎶 Ponor sa do jemných vibrácií soundhealingu\, ktorým ťa prevedie Kristína Zemčíková 📍 Sála Biopron | ⏰ 17:015 – 18:15 h \n ✨Počet miest je obmedzený\, preto si svoje miesto rezervuj včas. Pre maximálny komfort ti odporúčame priniesť vlastnú podložku. \n📲 Najaktuálnejší program sál si môžeš stiahnuť do telefónu\, aby si ho mala vždy po ruke! 🔗 \nhttps://umeniebytzenou.sk/wp-content/uploads/2026/04/UBZ-design-2026.jpg \n🚗 Parkovanie a stravovanie\n🔹 Parkovanie: Možnosť parkovať v podzemnej garáži hotela (za poplatok) alebo v okolitých uliciach podľa platnej parkovacej politiky. V blízkosti sa nachádza aj nákupné centrum Central\, kde je možné parkovať 3 hod. zadarmo. \n 🍽 Obed: \n\nNiekoľko miest je k dispozícii v hotelovej reštaurácii. \n\nĎalšie možnosti:\n \n\nReštaurácia Brick (hneď vedľa hotela) \n\nShopping mall Central (s food zónou)\n\nFutbalový štadión Tehelné pole obchodná pasáž (veľké potraviny)\n\n\n\n\n🥂 V hoteli bude k dispozícii bar\, kde si môžeš kúpiť nápoje a drobné občerstvenie. \nNaši partneri si pre teba tento rok pripravili: \n🔹 STADA PHARMA so značkami Ladival\, Biopron\, Beliema \n💙 Kontrola znamienok priamo na mieste – v stánku generálneho partnera STADA PHARMA s MUDr. Andreou Červenákovou (9:00 – 12:00). \n  \n🔹 TRICHOLOGICKÁ DIAGNOSTIKA \nOdborníci z trichologického inštitútu KAPYDERM ti urobia hĺbkovú analýzu vlasovej pokožky a vlasov\, pomôžu odhaliť príčinu možných problémov a navrhnú odporúčanie na mieru. \n  \n🔹 Objav svet krásy s Notino Salónmi \nZisti viac o Notino Salónoch a presvedč sa\, aké jednoduché je dopriať si profesionálnu starostlivosť – stačí pár kliknutí. ✨ \n🎁 Navštív stánok Notino\, zatoč si kolesom šťastia a vyhraj krásny darček! \n🔹 Sanatóriom Helios prináša prednášku Plodnosť bez tajomstiev s MUDr. Martin Petrenko \nV spolupráci s naším hlavným partnerom\, Sanatóriom Helios – špecializovaným centrom pre liečbu neplodnosti\, gynekológiu a genetiku – vám prinášame jedinečnú prednášku od popredného odborníka MUDr. Martin Petrenko\, v oblasti gynekológie a asistovanej reprodukcie. \n📍 Sála Beliema | ⏰ 10:50 – 11:50 h \n🔹 DS Automobiles 🚘 Prémiová značka DS Automobiles ťa pozýva zoznámiť sa so štýlovou a neprehliadnuteľniu novinkou DS N°4. \n 🎟 Zapoj sa do súťaže o DS N°4 na týždeň a 2 vstupenky na exkluzívnu predpremiéru Diabol nosí Pradu 2.  \nNezabudni navštíviť stánky partnerov a využiť všetky skvelé príležitosti\, ktoré sme pre teba pripravili! 💛✨ \n  \nPoradenská zóna\n🌟 Koučovacia zóna – objav svoj potenciál \nBudeš mať možnosť navštíviť interaktívnu koučovaciu zónu\, kde sa ti budú venovať profesionálni kouči z LIPA coaching & consulting a pomôžu ti objaviť tvoje skryté talenty a potenciál. \nNezmeškaj príležitosť rozšíriť svoje obzory a nájsť novú inšpiráciu pre svoju kariéru aj život. \nNumerologický mini vhľad s Líviou Danningerovou \nBudeš mať možnosť nahliadnuť do kódu tvojho dátumu narodenia prostredníctvom krátkej numerologickej konzultácie s profesionálnou numerologičkou\, lektorkou numerológie a mentorkou Líviou Danningerovou 💛 \nOddychová a nákupná zóna\nOddychová zóna ti ponúkne priestor na spomalenie\, rozhovory aj tiché momenty pre seba. A ak nejakú prednášku nestihneš alebo uprednostníš zaujímavý rozhovor\, vôbec to nevadí\, pretože po konferencii dostaneš záznam zo všetkých sál a prednášok.  \nA ak budeš mať chuť\, čaká ťa aj nákupná zóna\, kde sa môžeš nechať inšpirovať alebo si jednoducho niečo pekné dopriať. Zaručene ako každý rok bude plná ochutnávok\, krásnych vecí od kvalitnej kozmetiky\, sviečok\, oblečenia či iných drobností pre radosť.💛 \nTešíme sa na teba a atmosféru\, ktorú spoločne vytvoríme!  \nS láskou\,Marcela a Saša a tím Umenie byť ženou 💜 \n \n			\n				\n				\n				Ako je to s občerstvením počas dňa?\n				Počas registrácie je možné si zakúpiť obed v hotelovej reštaurácii alebo v reštauračných zariadeniach v blízkom okolí.\nTiež počas celého dňa funguje predajný bar v kongresových priestoroch a hotelová reštaurácia. \n			\n				\n				\n				Potrebujem si na konferenciu vstupenku vytlačiť?\n				Na konferencii sa môžete preukázať vstupenkou v tlačenej forme\, alebo elektronickej forme v mobile. Uprednostňujeme v rámci ochrany životného prostredia formu elektronickú\, ale je to samozrejme na vás. \n			\n			\n			\n				\n				\n			\n				\n				\n			\n				\n				\n				\n				\n					\n				\n				\n				\n				\n				\n				\n				Generálni partneri konferencie:\n			\n			\n				\n				\n			\n				\n				\n				\n				\n				\n					\n				\n				\n				\n					\n						\n						\n							\n							\n						\n					\n				\n				\n			\n			\n				\n				\n			\n			\n			\n				\n				\n				\n				\n					\n				\n				\n				\n					\n						\n						\n							\n							\n						\n					\n				\n				\n			\n			\n				\n				\n			\n			\n			\n				\n				\n				\n				\n					\n				\n				\n				\n					\n						\n						\n							\n							\n						\n					\n				\n				\n			\n			\n				\n				\n			\n			\n			\n				\n				\n			\n				\n				\n			\n				\n				\n				\n				\n					\n				\n				\n				\n				\n				\n				\n				Hlavní partneri:\n			\n			\n				\n				\n			\n				\n				\n				\n				\n			\n				\n				\n				\n				\n					\n				\n				\n				\n					\n						\n						\n							\n							\n						\n					\n				\n				\n			\n			\n				\n				\n			\n			\n			\n				\n				\n				\n			\n				\n				\n			\n				\n				\n				\n				\n			\n				\n				\n				\n				\n					\n				\n				\n				\n					\n						\n						\n							\n							\n						\n					\n				\n				\n			\n			\n				\n				\n			\n			\n			\n				\n				\n				\n			\n				\n				\n			\n				\n				\n			\n				\n				\n				\n				\n					\n				\n				\n				\n				\n				\n				\n				Partneri:
URL:https://umeniebytzenou.sk/nase-podujatia/konferencia-umenie-byt-zenou-2026/
LOCATION:Double tree by Hilton\, Bratislava\, Slovenská republika
ATTACH;FMTTYPE=image/jpeg:https://umeniebytzenou.sk/wp-content/uploads/2022/05/entry-off-vstupenka-UBZ.jpg
ORGANIZER;CN="Umenie%20by%C5%A5%20%C5%BEenou%20KE%20s.%20r.%20o.":MAILTO:info@umeniebytzenou.sk
END:VEVENT
END:VCALENDAR